BEGIN:VCALENDAR
VERSION:2.0
PRODID:-//Individualized Educational Services - ECPv6.15.20//NONSGML v1.0//EN
CALSCALE:GREGORIAN
METHOD:PUBLISH
X-WR-CALNAME:Individualized Educational Services
X-ORIGINAL-URL:https://ies-tutor.com
X-WR-CALDESC:Events for Individualized Educational Services
REFRESH-INTERVAL;VALUE=DURATION:PT1H
X-Robots-Tag:noindex
X-PUBLISHED-TTL:PT1H
BEGIN:VTIMEZONE
TZID:America/Los_Angeles
BEGIN:DAYLIGHT
TZOFFSETFROM:-0800
TZOFFSETTO:-0700
TZNAME:PDT
DTSTART:20240310T100000
END:DAYLIGHT
BEGIN:STANDARD
TZOFFSETFROM:-0700
TZOFFSETTO:-0800
TZNAME:PST
DTSTART:20241103T090000
END:STANDARD
BEGIN:DAYLIGHT
TZOFFSETFROM:-0800
TZOFFSETTO:-0700
TZNAME:PDT
DTSTART:20250309T100000
END:DAYLIGHT
BEGIN:STANDARD
TZOFFSETFROM:-0700
TZOFFSETTO:-0800
TZNAME:PST
DTSTART:20251102T090000
END:STANDARD
BEGIN:DAYLIGHT
TZOFFSETFROM:-0800
TZOFFSETTO:-0700
TZNAME:PDT
DTSTART:20260308T100000
END:DAYLIGHT
BEGIN:STANDARD
TZOFFSETFROM:-0700
TZOFFSETTO:-0800
TZNAME:PST
DTSTART:20261101T090000
END:STANDARD
END:VTIMEZONE
BEGIN:VEVENT
DTSTART;TZID=America/Los_Angeles:20251106T094500
DTEND;TZID=America/Los_Angeles:20251106T104500
DTSTAMP:20260424T073220
CREATED:20250728T232231Z
LAST-MODIFIED:20250728T232231Z
UID:14819-1762422300-1762425900@ies-tutor.com
SUMMARY:Algebra 1
DESCRIPTION:
URL:https://ies-tutor.com/schedule/algebra-1-83/
LOCATION:Individualized Educational Services 5266 Hollister Ave\, Unit 112\, Santa Barbara\, CA  93111\, United States
CATEGORIES:6-8,9-12,Math
END:VEVENT
BEGIN:VEVENT
DTSTART;TZID=America/Los_Angeles:20251106T110000
DTEND;TZID=America/Los_Angeles:20251106T123000
DTSTAMP:20260424T073220
CREATED:20250728T232444Z
LAST-MODIFIED:20250728T232444Z
UID:14886-1762426800-1762432200@ies-tutor.com
SUMMARY:Language & Literature
DESCRIPTION:
URL:https://ies-tutor.com/schedule/language-literature-18/
LOCATION:Individualized Educational Services 5266 Hollister Ave\, Unit 112\, Santa Barbara\, CA  93111\, United States
CATEGORIES:9-12,English Language Arts
END:VEVENT
BEGIN:VEVENT
DTSTART;TZID=America/Los_Angeles:20251106T130000
DTEND;TZID=America/Los_Angeles:20251106T140000
DTSTAMP:20260424T073220
CREATED:20250728T232710Z
LAST-MODIFIED:20250728T232710Z
UID:14951-1762434000-1762437600@ies-tutor.com
SUMMARY:HS Biology
DESCRIPTION:
URL:https://ies-tutor.com/schedule/hs-biology-18/
LOCATION:Individualized Educational Services 5266 Hollister Ave\, Unit 112\, Santa Barbara\, CA  93111\, United States
CATEGORIES:6-8,9-12,Science
END:VEVENT
END:VCALENDAR